BEGIN:VCALENDAR
VERSION:2.0
PRODID:-//Tukios.com/
BEGIN:VEVENT
UID:1a5dc7e0-1937-48c5-a1d8-bbd0f10251b8@www.rmtfunerals.com
DTSTAMP:20260421T074432Z
DTSTART:20260428T140000Z
DTEND:20260428T150000Z
SUMMARY:Visitation
DESCRIPTION:Please have flowers delivered to the church on the day of 
	service no later than 9:00 A.M.
URL:https://www.rmtfunerals.com/obituaries/betty-english
LOCATION:First Missionary Baptist Church 46370 Pegg Ln  Lexington Park MD 
	20653
GEO:38.2746739;-76.4728448
END:VEVENT
END:VCALENDAR