BEGIN:VCALENDAR
VERSION:2.0
PRODID:-//Tukios.com/
BEGIN:VEVENT
UID:25c114e2-1b2d-4ae5-9fb8-29bb9269e8cc@www.rmtfunerals.com
DTSTAMP:20260421T074325Z
DTSTART:20260428T150000Z
DTEND:20260428T160000Z
SUMMARY:Celebration of Life
DESCRIPTION:
URL:https://www.rmtfunerals.com/obituaries/betty-english
LOCATION:First Missionary Baptist Church 46370 Pegg Ln  Lexington Park MD 
	20653
GEO:38.2746739;-76.4728448
END:VEVENT
END:VCALENDAR